Package: diffGeneAnalysis Version: 1.90.0 Command: /home/biocbuild/R/R/bin/R CMD build --keep-empty-dirs --no-resave-data diffGeneAnalysis StartedAt: 2025-10-03 00:26:18 -0000 (Fri, 03 Oct 2025) EndedAt: 2025-10-03 00:26:23 -0000 (Fri, 03 Oct 2025) EllapsedTime: 5.0 seconds RetCode: 0 Status: OK PackageFile: diffGeneAnalysis_1.90.0.tar.gz PackageFileSize: 209 KiB