Package: diffGeneAnalysis Version: 1.90.0 Command: /home/biocbuild/R/R/bin/R CMD INSTALL diffGeneAnalysis StartedAt: 2025-10-06 20:15:12 -0000 (Mon, 06 Oct 2025) EndedAt: 2025-10-06 20:15:32 -0000 (Mon, 06 Oct 2025) EllapsedTime: 20.3 seconds RetCode: 0 Status: OK