Package: diffcyt Version: 1.28.0 Command: rm -rf diffcyt.buildbin-libdir && mkdir diffcyt.buildbin-libdir && /Users/biocbuild/BBS/utils/build-universal.sh diffcyt_1.28.0.tar.gz /Library/Frameworks/R.framework/Resources/bin/R diffcyt.buildbin-libdir StartedAt: 2025-10-10 13:17:06 -0400 (Fri, 10 Oct 2025) EndedAt: 2025-10-10 13:18:59 -0400 (Fri, 10 Oct 2025) EllapsedTime: 113.1 seconds RetCode: 0 Status: OK PackageFile: diffcyt_1.28.0.tgz PackageFileSize: 864.2 KiB