Package: diffcyt Version: 1.28.0 Command: /Library/Frameworks/R.framework/Resources/bin/R CMD build --keep-empty-dirs --no-resave-data diffcyt StartedAt: 2025-10-09 18:37:07 -0400 (Thu, 09 Oct 2025) EndedAt: 2025-10-09 18:40:45 -0400 (Thu, 09 Oct 2025) EllapsedTime: 217.7 seconds RetCode: 0 Status: OK PackageFile: diffcyt_1.28.0.tar.gz PackageFileSize: 855.4 KiB