Package: interactiveDisplayBase Version: 1.46.0 Command: /home/biocbuild/R/R/bin/R CMD build --keep-empty-dirs --no-resave-data interactiveDisplayBase StartedAt: 2025-10-14 01:51:26 -0000 (Tue, 14 Oct 2025) EndedAt: 2025-10-14 01:51:33 -0000 (Tue, 14 Oct 2025) EllapsedTime: 7.0 seconds RetCode: 0 Status: OK PackageFile: interactiveDisplayBase_1.46.0.tar.gz PackageFileSize: 7.989 KiB