Package: scBubbletree Version: 1.10.0 Command: /Library/Frameworks/R.framework/Resources/bin/R CMD build --keep-empty-dirs --no-resave-data scBubbletree StartedAt: 2025-10-03 08:27:49 -0400 (Fri, 03 Oct 2025) EndedAt: 2025-10-03 08:35:17 -0400 (Fri, 03 Oct 2025) EllapsedTime: 448.0 seconds RetCode: 0 Status: OK PackageFile: scBubbletree_1.10.0.tar.gz PackageFileSize: 4.42 MiB