Package: scBubbletree Version: 1.10.0 Command: /home/biocbuild/bbs-3.21-bioc/R/bin/R CMD build --keep-empty-dirs --no-resave-data scBubbletree StartedAt: 2025-10-08 19:39:29 -0400 (Wed, 08 Oct 2025) EndedAt: 2025-10-08 19:44:42 -0400 (Wed, 08 Oct 2025) EllapsedTime: 313.4 seconds RetCode: 0 Status: OK PackageFile: scBubbletree_1.10.0.tar.gz PackageFileSize: 4.645 MiB