Package: scBubbletree Version: 1.10.0 Command: /home/biocbuild/bbs-3.21-bioc/R/bin/R CMD INSTALL scBubbletree StartedAt: 2025-10-08 15:11:17 -0400 (Wed, 08 Oct 2025) EndedAt: 2025-10-08 15:11:36 -0400 (Wed, 08 Oct 2025) EllapsedTime: 19.0 seconds RetCode: 0 Status: OK