Package: sparseMatrixStats Version: 1.20.0 Command: /home/biocbuild/R/R/bin/R CMD build --keep-empty-dirs --no-resave-data sparseMatrixStats StartedAt: 2025-10-14 04:54:33 -0000 (Tue, 14 Oct 2025) EndedAt: 2025-10-14 04:55:24 -0000 (Tue, 14 Oct 2025) EllapsedTime: 51.0 seconds RetCode: 0 Status: OK PackageFile: sparseMatrixStats_1.20.0.tar.gz PackageFileSize: 711.1 KiB