Package: tidyFlowCore Version: 1.2.0 Command: rm -rf tidyFlowCore.buildbin-libdir && mkdir tidyFlowCore.buildbin-libdir && /Users/biocbuild/BBS/utils/build-universal.sh tidyFlowCore_1.2.0.tar.gz /Library/Frameworks/R.framework/Resources/bin/R tidyFlowCore.buildbin-libdir StartedAt: 2025-10-11 22:39:28 -0400 (Sat, 11 Oct 2025) EndedAt: 2025-10-11 22:39:43 -0400 (Sat, 11 Oct 2025) EllapsedTime: 14.8 seconds RetCode: 0 Status: OK PackageFile: tidyFlowCore_1.2.0.tgz PackageFileSize: 920.9 KiB