Welcome to mirrors.dotsrc.org

All our mirrors of open source software are available via http, https, ftp and an onion service. More information about our mirrors including statistics and contact information is available on our mirror info pages.

For information about dotsrc.org and our other services please go to our website.

Index of /bioconductor/checkResults/3.21/data-experiment-LATEST/

File Name  ↓ File Size  ↓ Date  ↓ 
--
-2025-10-02 19:01:44
-2025-10-02 19:01:44
-2025-10-02 19:01:44
-2025-10-02 19:01:44
-2025-10-02 19:01:44
-2025-10-02 19:01:44
-2025-10-02 19:01:44
-2025-10-02 19:01:44
-2025-10-02 19:01:44
-2025-10-02 19:01:44
-2025-10-02 19:01:44
-2025-10-02 19:01:44
-2025-10-02 19:01:44
-2025-10-02 19:01:44
-2025-10-02 19:01:44
-2025-10-02 19:01:44
-2025-10-02 19:01:44
-2025-10-02 19:01:44
-2025-10-02 19:01:44
-2025-10-02 19:01:44
-2025-10-02 19:01:44
-2025-10-02 19:01:44
-2025-10-02 19:01:44
-2025-10-02 19:01:44
-2025-10-02 19:01:44
-2025-10-02 19:01:44
-2025-10-02 19:01:44
-2025-10-02 19:01:44
-2025-10-02 19:01:44
-2025-10-02 19:01:44
-2025-10-02 19:01:44
-2025-10-02 19:01:44
-2025-10-02 19:01:44
-2025-10-02 19:01:44
-2025-10-02 19:01:44
-2025-10-02 19:01:44
-2025-10-02 19:01:44
-2025-10-02 19:01:44
-2025-10-02 19:01:44
-2025-10-02 19:01:44
-2025-10-02 19:01:44
-2025-10-02 19:01:44
-2025-10-02 19:01:44
-2025-10-02 19:01:44
-2025-10-02 19:01:44
-2025-10-02 19:01:44
-2025-10-02 19:01:44
-2025-10-02 19:01:44
-2025-10-02 19:01:44
-2025-10-02 19:01:44
-2025-10-02 19:01:44
-2025-10-02 19:01:44
-2025-10-02 19:01:44
-2025-10-02 19:01:44
-2025-10-02 19:01:44
-2025-10-02 19:01:44
-2025-10-02 19:01:44
-2025-10-02 19:01:44
-2025-10-02 19:01:44
-2025-10-02 19:01:44
-2025-10-02 19:01:44
-2025-10-02 19:01:44
-2025-10-02 19:01:44
-2025-10-02 19:01:44
-2025-10-02 19:01:44
-2025-10-02 19:01:44
-2025-10-02 19:01:44
-2025-10-02 19:01:44
-2025-10-02 19:01:44
-2025-10-02 19:01:44
-2025-10-02 19:01:45
-2025-10-02 19:01:45
-2025-10-02 19:01:45
-2025-10-02 19:01:44
-2025-10-02 19:01:44
-2025-10-02 19:01:45
-2025-10-02 19:01:45
-2025-10-02 19:01:45
-2025-10-02 19:01:45
-2025-10-02 19:01:45
-2025-10-02 19:01:45
-2025-10-02 19:01:45
-2025-10-02 19:01:45
-2025-10-02 19:01:45
-2025-10-02 19:01:45
-2025-10-02 19:01:45
-2025-10-02 19:01:45
-2025-10-02 19:01:45
-2025-10-02 19:01:45
-2025-10-02 19:01:45
-2025-10-02 19:01:45
-2025-10-02 19:01:45
-2025-10-02 19:01:45
-2025-10-02 19:01:45
-2025-10-02 19:01:45
-2025-10-02 19:01:45
-2025-10-02 19:01:45
-2025-10-02 19:01:45
-2025-10-02 19:01:45
-2025-10-02 19:01:45
-2025-10-02 19:01:45
-2025-10-02 19:01:45
-2025-10-02 19:01:45
-2025-10-02 19:01:45
-2025-10-02 19:01:45
-2025-10-02 19:01:45
-2025-10-02 19:01:45
-2025-10-02 19:01:45
-2025-10-02 19:01:45
-2025-10-02 19:01:45
-2025-10-02 19:01:45
-2025-10-02 19:01:45
-2025-10-02 19:01:45
-2025-10-02 19:01:45
-2025-10-02 19:01:45
-2025-10-02 19:01:45
-2025-10-02 19:01:45
-2025-10-02 19:01:45
-2025-10-02 19:01:45
-2025-10-02 19:01:45
-2025-10-02 19:01:45
-2025-10-02 19:01:45
-2025-10-02 19:01:45
-2025-10-02 19:01:45
-2025-10-02 19:01:45
-2025-10-02 19:01:45
-2025-10-02 19:01:45
-2025-10-02 19:01:45
-2025-10-02 19:01:45
-2025-10-02 19:01:45
-2025-10-02 19:01:45
-2025-10-02 19:01:45
-2025-10-02 19:01:45
-2025-10-02 19:01:45
-2025-10-02 19:01:45
-2025-10-02 19:01:45
-2025-10-02 19:01:45
-2025-10-02 19:01:45
-2025-10-02 19:01:45
-2025-10-02 19:01:45
-2025-10-02 19:01:45
-2025-10-02 19:01:45
-2025-10-02 19:01:45
-2025-10-02 19:01:45
-2025-10-02 19:01:45
-2025-10-02 19:01:45
-2025-10-02 19:01:45
-2025-10-02 19:01:45
-2025-10-02 19:01:45
-2025-10-02 19:01:45
-2025-10-02 19:01:45
-2025-10-02 19:01:45
-2025-10-02 19:01:45
-2025-10-02 19:01:45
-2025-10-02 19:01:45
-2025-10-02 19:01:45
-2025-10-02 19:01:45
-2025-10-02 19:01:45
-2025-10-02 19:01:45
-2025-10-02 19:01:45
-2025-10-02 19:01:45
-2025-10-02 19:01:45
-2025-10-02 19:01:45
-2025-10-02 19:01:45
-2025-10-02 19:01:45
-2025-10-02 19:01:45
-2025-10-02 19:01:45
-2025-10-02 19:01:45
-2025-10-02 19:01:45
-2025-10-02 19:01:45
-2025-10-02 19:01:45
-2025-10-02 19:01:45
-2025-10-02 19:01:45
-2025-10-02 19:01:45
-2025-10-02 19:01:45
-2025-10-02 19:01:45
-2025-10-02 19:01:45
-2025-10-02 19:01:45
-2025-10-02 19:01:45
-2025-10-02 19:01:45
-2025-10-02 19:01:45
-2025-10-02 19:01:45
-2025-10-02 19:01:45
-2025-10-02 19:01:45
-2025-10-02 19:01:45
-2025-10-02 19:01:45
-2025-10-02 19:01:45
-2025-10-02 19:01:45
-2025-10-02 19:01:45
-2025-10-02 19:01:45
-2025-10-02 19:01:45
-2025-10-02 19:01:45
-2025-10-02 19:01:45
-2025-10-02 19:01:45
-2025-10-02 19:01:45
-2025-10-02 19:01:45
-2025-10-02 19:01:45
-2025-10-02 19:01:45
-2025-10-02 19:01:45
-2025-10-02 19:01:45
-2025-10-02 19:01:45
-2025-10-02 19:01:45
-2025-10-02 19:01:45
-2025-10-02 19:01:45
-2025-10-02 19:01:45
-2025-10-02 19:01:45
-2025-10-02 19:01:45
-2025-10-02 19:01:45
-2025-10-02 19:01:45
-2025-10-02 19:01:45
-2025-10-02 19:01:45
-2025-10-02 19:01:45
-2025-10-02 19:01:45
-2025-10-02 19:01:45
-2025-10-02 19:01:45
-2025-10-02 19:01:45
-2025-10-02 19:01:45
-2025-10-02 19:01:45
-2025-10-02 19:01:45
-2025-10-02 19:01:45
-2025-10-02 19:01:45
-2025-10-02 19:01:45
-2025-10-02 19:01:45
-2025-10-02 19:01:45
-2025-10-02 19:01:45
-2025-10-02 19:01:45
-2025-10-02 19:01:44
-2025-10-02 19:01:44
-2025-10-02 19:01:44
-2025-10-02 19:01:44
-2025-10-02 19:01:44
-2025-10-02 19:01:44
-2025-10-02 19:01:44
-2025-10-02 19:01:44
-2025-10-02 19:01:44
-2025-10-02 19:01:44
-2025-10-02 19:01:44
-2025-10-02 19:01:44
-2025-10-02 19:01:44
-2025-10-02 19:01:44
-2025-10-02 19:01:44
-2025-10-02 19:01:44
-2025-10-02 19:01:44
-2025-10-02 19:01:44
-2025-10-02 19:01:44
-2025-10-02 19:01:44
-2025-10-02 19:01:44
-2025-10-02 19:01:44
-2025-10-02 19:01:44
-2025-10-02 19:01:44
-2025-10-02 19:01:44
-2025-10-02 19:01:44
-2025-10-02 19:01:44
-2025-10-02 19:01:44
-2025-10-02 19:01:44
-2025-10-02 19:01:44
-2025-10-02 19:01:44
-2025-10-02 19:01:44
-2025-10-02 19:01:44
-2025-10-02 19:01:44
-2025-10-02 19:01:44
-2025-10-02 19:01:44
-2025-10-02 19:01:44
-2025-10-02 19:01:44
-2025-10-02 19:01:44
-2025-10-02 19:01:44
-2025-10-02 19:01:44
-2025-10-02 19:01:44
-2025-10-02 19:01:44
-2025-10-02 19:01:44
-2025-10-02 19:01:44
-2025-10-02 19:01:44
-2025-10-02 19:01:44
-2025-10-02 19:01:44
-2025-10-02 19:01:44
-2025-10-02 19:01:44
-2025-10-02 19:01:44
-2025-10-02 19:01:44
-2025-10-02 19:01:44
-2025-10-02 19:01:44
-2025-10-02 19:01:44
-2025-10-02 19:01:44
-2025-10-02 19:01:44
-2025-10-02 19:01:44
-2025-10-02 19:01:44
-2025-10-02 19:01:44
-2025-10-02 19:01:44
-2025-10-02 19:01:44
-2025-10-02 19:01:44
-2025-10-02 19:01:44
-2025-10-02 19:01:44
-2025-10-02 19:01:44
-2025-10-02 19:01:44
-2025-10-02 19:01:44
-2025-10-02 19:01:44
-2025-10-02 19:01:44
-2025-10-02 19:01:44
-2025-10-02 19:01:44
-2025-10-02 19:01:44
-2025-10-02 19:01:44
-2025-10-02 19:01:44
-2025-10-02 19:01:44
-2025-10-02 19:01:44
-2025-10-02 19:01:44
-2025-10-02 19:01:44
-2025-10-02 19:01:44
-2025-10-02 19:01:44
-2025-10-02 19:01:44
-2025-10-02 19:01:44
-2025-10-02 19:01:44
-2025-10-02 19:01:44
-2025-10-02 19:01:44
-2025-10-02 19:01:45
-2025-10-02 19:01:45
-2025-10-02 19:01:45
-2025-10-02 19:01:45
-2025-10-02 19:01:45
-2025-10-02 19:01:45
-2025-10-02 19:01:45
-2025-10-02 19:01:45
-2025-10-02 19:01:45
-2025-10-02 19:01:45
-2025-10-02 19:01:45
-2025-10-02 19:01:45
-2025-10-02 19:01:45
-2025-10-02 19:01:45
-2025-10-02 19:01:45
-2025-10-02 19:01:45
-2025-10-02 19:01:45
-2025-10-02 19:01:45
-2025-10-02 19:01:45
-2025-10-02 19:01:45
-2025-10-02 19:01:45
-2025-10-02 19:01:45
-2025-10-02 19:01:45
-2025-10-02 19:01:45
-2025-10-02 19:01:45
-2025-10-02 19:01:45
-2025-10-02 19:01:45
-2025-10-02 19:01:45
-2025-10-02 19:01:45
-2025-10-02 19:01:45
-2025-10-02 19:01:45
-2025-10-02 19:01:45
-2025-10-02 19:01:45
-2025-10-02 19:01:45
-2025-10-02 19:01:45
-2025-10-02 19:01:45
-2025-10-02 19:01:45
-2025-10-02 19:01:45
-2025-10-02 19:01:45
-2025-10-02 19:01:45
-2025-10-02 19:01:45
-2025-10-02 19:01:45
-2025-10-02 19:01:45
-2025-10-02 19:01:45
-2025-10-02 19:01:45
-2025-10-02 19:01:45
-2025-10-02 19:01:45
-2025-10-02 19:01:45
-2025-10-02 19:01:45
-2025-10-02 19:01:45
-2025-10-02 19:01:45
-2025-10-02 19:01:45
-2025-10-02 19:01:45
-2025-10-02 19:01:45
-2025-10-02 19:01:45
-2025-10-02 19:01:45
-2025-10-02 19:01:45
-2025-10-02 19:01:45
-2025-10-02 19:01:45
-2025-10-02 19:01:45
-2025-10-02 19:01:45
-2025-10-02 19:01:45
-2025-10-02 19:01:45
-2025-10-02 19:01:45
-2025-10-02 19:01:45
-2025-10-02 19:01:45
-2025-10-02 19:01:45
-2025-10-02 19:01:45
-2025-10-02 19:01:45
-2025-10-02 19:01:45
-2025-10-02 19:01:45
-2025-10-02 19:01:45
-2025-10-02 19:01:45
-2025-10-02 19:01:45
-2025-10-02 19:01:45
-2025-10-02 19:01:45
-2025-10-02 19:01:45
-2025-10-02 19:01:45
-2025-10-02 19:01:45
-2025-10-02 19:01:45
-2025-10-02 19:01:45
-2025-10-02 19:01:45
-2025-10-02 19:01:45
-2025-10-02 19:01:45
-2025-10-02 19:01:45
-2025-10-02 19:01:45
-2025-10-02 19:01:45
-2025-10-02 19:01:45
-2025-10-02 19:01:45
-2025-10-02 19:01:45
-2025-10-02 19:01:45
-2025-10-02 19:01:45
-2025-10-02 19:01:45
-2025-10-02 19:01:45
-2025-10-02 19:01:45
-2025-10-02 19:01:45
-2025-10-02 19:01:45
-2025-10-02 19:01:45
-2025-10-02 19:01:45
-2025-10-02 19:01:45
-2025-10-02 19:01:45
-2025-10-02 19:01:45
-2025-10-02 19:01:45
-2025-10-02 19:01:45
-2025-10-02 19:01:45
-2025-10-02 19:01:45
-2025-10-02 19:01:45
-2025-10-02 19:01:45
-2025-10-02 19:01:45
-2025-10-02 19:01:45
-2025-10-02 19:01:45
-2025-10-02 19:01:45
-2025-10-02 19:01:45
-2025-10-02 19:01:45
-2025-10-02 19:01:45
-2025-10-02 19:01:45
-2025-10-02 19:01:46
-2025-10-02 19:01:46
-2025-10-02 19:01:46
-2025-10-02 19:01:46
7.1 KiB2025-10-02 19:01:44
7.1 KiB2025-10-02 19:01:44
7.0 KiB2025-10-02 19:01:44
47.3 KiB2025-10-02 19:01:44
2.6 KiB2025-10-02 19:01:44
31.6 KiB2025-10-02 19:01:44
3.3 KiB2025-10-02 19:01:44
598.8 KiB2025-10-02 19:01:46
46.5 KiB2025-10-02 19:01:44
7.4 KiB2025-10-02 19:01:44
529.3 KiB2025-10-02 19:01:44
11.7 KiB2025-10-02 19:01:44
6.0 KiB2025-10-02 19:01:44
1.2 MiB2025-10-02 19:01:48
0 B2025-10-02 19:01:44