Package: AmpAffyExample Version: 1.48.0 Command: /home/biocbuild/bbs-3.21-bioc/R/bin/R CMD INSTALL AmpAffyExample StartedAt: 2025-10-16 10:56:39 -0400 (Thu, 16 Oct 2025) EndedAt: 2025-10-16 10:56:42 -0400 (Thu, 16 Oct 2025) EllapsedTime: 2.7 seconds RetCode: 0 Status: OK