Package: CopyNeutralIMA Version: 1.26.0 Command: /home/biocbuild/bbs-3.21-bioc/R/bin/R CMD build --keep-empty-dirs --no-resave-data CopyNeutralIMA StartedAt: 2025-10-14 11:10:01 -0400 (Tue, 14 Oct 2025) EndedAt: 2025-10-14 11:13:25 -0400 (Tue, 14 Oct 2025) EllapsedTime: 204.2 seconds RetCode: 0 Status: OK PackageFile: CopyNeutralIMA_1.26.0.tar.gz PackageFileSize: 566.9 KiB