Package: CopyNeutralIMA Version: 1.26.0 Command: /home/biocbuild/bbs-3.21-bioc/R/bin/R CMD INSTALL CopyNeutralIMA StartedAt: 2025-10-09 10:58:02 -0400 (Thu, 09 Oct 2025) EndedAt: 2025-10-09 10:58:19 -0400 (Thu, 09 Oct 2025) EllapsedTime: 16.7 seconds RetCode: 0 Status: OK