Package: DropletTestFiles Version: 1.18.0 Command: /home/biocbuild/bbs-3.21-bioc/R/bin/R CMD INSTALL DropletTestFiles StartedAt: 2025-10-16 10:57:38 -0400 (Thu, 16 Oct 2025) EndedAt: 2025-10-16 10:57:51 -0400 (Thu, 16 Oct 2025) EllapsedTime: 13.3 seconds RetCode: 0 Status: OK