Package: HelloRangesData Version: 1.34.0 Command: /home/biocbuild/bbs-3.21-bioc/R/bin/R CMD INSTALL HelloRangesData StartedAt: 2025-10-14 10:55:51 -0400 (Tue, 14 Oct 2025) EndedAt: 2025-10-14 10:55:56 -0400 (Tue, 14 Oct 2025) EllapsedTime: 5.5 seconds RetCode: 0 Status: OK