Package: RTCGA.methylation Version: 1.36.0 Command: /home/biocbuild/bbs-3.21-bioc/R/bin/R CMD INSTALL RTCGA.methylation StartedAt: 2025-10-16 10:58:06 -0400 (Thu, 16 Oct 2025) EndedAt: 2025-10-16 11:00:39 -0400 (Thu, 16 Oct 2025) EllapsedTime: 153.1 seconds RetCode: 0 Status: OK