Package: RTCGA.rnaseq Version: 20151101.38.0 Command: /home/biocbuild/bbs-3.21-bioc/R/bin/R CMD INSTALL RTCGA.rnaseq StartedAt: 2025-10-16 10:58:14 -0400 (Thu, 16 Oct 2025) EndedAt: 2025-10-16 11:01:07 -0400 (Thu, 16 Oct 2025) EllapsedTime: 173.1 seconds RetCode: 0 Status: OK