Package: STexampleData Version: 1.16.0 Command: /home/biocbuild/bbs-3.21-bioc/R/bin/R CMD build --keep-empty-dirs --no-resave-data STexampleData StartedAt: 2025-10-16 11:40:45 -0400 (Thu, 16 Oct 2025) EndedAt: 2025-10-16 11:42:26 -0400 (Thu, 16 Oct 2025) EllapsedTime: 101.2 seconds RetCode: 0 Status: OK PackageFile: STexampleData_1.16.0.tar.gz PackageFileSize: 235.5 KiB