Package: STexampleData Version: 1.16.0 Command: /home/biocbuild/bbs-3.21-bioc/R/bin/R CMD INSTALL STexampleData StartedAt: 2025-10-16 10:59:54 -0400 (Thu, 16 Oct 2025) EndedAt: 2025-10-16 11:00:23 -0400 (Thu, 16 Oct 2025) EllapsedTime: 29.3 seconds RetCode: 0 Status: OK