Package: Single.mTEC.Transcriptomes Version: 1.36.0 Command: /home/biocbuild/bbs-3.21-bioc/R/bin/R CMD build --keep-empty-dirs --no-resave-data Single.mTEC.Transcriptomes StartedAt: 2025-10-16 11:39:48 -0400 (Thu, 16 Oct 2025) EndedAt: 2025-10-16 11:45:52 -0400 (Thu, 16 Oct 2025) EllapsedTime: 364.5 seconds RetCode: 0 Status: OK PackageFile: Single.mTEC.Transcriptomes_1.36.0.tar.gz PackageFileSize: 904.6 MiB