Package: Single.mTEC.Transcriptomes Version: 1.36.0 Command: /home/biocbuild/bbs-3.21-bioc/R/bin/R CMD INSTALL Single.mTEC.Transcriptomes StartedAt: 2025-10-16 10:55:52 -0400 (Thu, 16 Oct 2025) EndedAt: 2025-10-16 10:56:03 -0400 (Thu, 16 Oct 2025) EllapsedTime: 10.8 seconds RetCode: 0 Status: OK