Package: benchmarkfdrData2019 Version: 1.22.0 Command: /home/biocbuild/bbs-3.21-bioc/R/bin/R CMD INSTALL benchmarkfdrData2019 StartedAt: 2025-10-07 11:03:47 -0400 (Tue, 07 Oct 2025) EndedAt: 2025-10-07 11:04:13 -0400 (Tue, 07 Oct 2025) EllapsedTime: 26.0 seconds RetCode: 0 Status: OK