Package: chipseqDBData Version: 1.24.0 Command: /home/biocbuild/bbs-3.21-bioc/R/bin/R CMD INSTALL chipseqDBData StartedAt: 2025-10-16 11:01:51 -0400 (Thu, 16 Oct 2025) EndedAt: 2025-10-16 11:02:06 -0400 (Thu, 16 Oct 2025) EllapsedTime: 15.7 seconds RetCode: 0 Status: OK