Package: mosaicsExample Version: 1.46.0 Command: /home/biocbuild/bbs-3.21-bioc/R/bin/R CMD INSTALL mosaicsExample StartedAt: 2025-10-14 10:55:17 -0400 (Tue, 14 Oct 2025) EndedAt: 2025-10-14 10:55:19 -0400 (Tue, 14 Oct 2025) EllapsedTime: 2.3 seconds RetCode: 0 Status: OK