Package: ArrayExpress Version: 1.70.0 Command: /home/biocbuild/bbs-3.22-bioc/R/bin/R CMD build --keep-empty-dirs --no-resave-data --md5 ArrayExpress StartedAt: 2025-11-20 17:06:04 -0500 (Thu, 20 Nov 2025) EndedAt: 2025-11-20 17:08:49 -0500 (Thu, 20 Nov 2025) EllapsedTime: 165.1 seconds RetCode: 0 Status: OK PackageFile: ArrayExpress_1.70.0.tar.gz PackageFileSize: 137.8 KiB