Package: ArrayExpress Version: 1.70.0 Command: /home/biocbuild/bbs-3.22-bioc/R/bin/R CMD INSTALL ArrayExpress StartedAt: 2025-11-20 16:12:03 -0500 (Thu, 20 Nov 2025) EndedAt: 2025-11-20 16:12:33 -0500 (Thu, 20 Nov 2025) EllapsedTime: 30.4 seconds RetCode: 0 Status: OK