Package: BioMVCClass Version: 1.78.0 Command: rm -rf BioMVCClass.buildbin-libdir && mkdir BioMVCClass.buildbin-libdir && /Users/biocbuild/BBS/utils/build-universal.sh BioMVCClass_1.78.0.tar.gz /Library/Frameworks/R.framework/Resources/bin/R BioMVCClass.buildbin-libdir StartedAt: 2025-11-10 23:12:52 -0500 (Mon, 10 Nov 2025) EndedAt: 2025-11-10 23:12:54 -0500 (Mon, 10 Nov 2025) EllapsedTime: 2.1 seconds RetCode: 0 Status: OK PackageFile: BioMVCClass_1.78.0.tgz PackageFileSize: 145.1 KiB