Package: BioMVCClass Version: 1.78.0 Command: /Library/Frameworks/R.framework/Resources/bin/R CMD build --keep-empty-dirs --no-resave-data BioMVCClass StartedAt: 2025-11-10 15:46:26 -0500 (Mon, 10 Nov 2025) EndedAt: 2025-11-10 15:46:30 -0500 (Mon, 10 Nov 2025) EllapsedTime: 4.1 seconds RetCode: 0 Status: OK PackageFile: BioMVCClass_1.78.0.tar.gz PackageFileSize: 131.3 KiB