Package: BioMVCClass Version: 1.78.0 Command: /Library/Frameworks/R.framework/Resources/bin/R CMD INSTALL BioMVCClass StartedAt: 2025-11-10 15:08:12 -0500 (Mon, 10 Nov 2025) EndedAt: 2025-11-10 15:08:14 -0500 (Mon, 10 Nov 2025) EllapsedTime: 2.1 seconds RetCode: 0 Status: OK