Package: BiocBaseUtils Version: 1.12.0 Command: /home/biocbuild/bbs-3.22-bioc/R/bin/R CMD build --keep-empty-dirs --no-resave-data --md5 BiocBaseUtils StartedAt: 2025-11-20 17:19:52 -0500 (Thu, 20 Nov 2025) EndedAt: 2025-11-20 17:19:57 -0500 (Thu, 20 Nov 2025) EllapsedTime: 5.0 seconds RetCode: 0 Status: OK PackageFile: BiocBaseUtils_1.12.0.tar.gz PackageFileSize: 227.1 KiB