Package: BiocBaseUtils Version: 1.12.0 Command: /home/biocbuild/bbs-3.22-bioc/R/bin/R CMD INSTALL BiocBaseUtils StartedAt: 2025-11-20 15:52:47 -0500 (Thu, 20 Nov 2025) EndedAt: 2025-11-20 15:52:58 -0500 (Thu, 20 Nov 2025) EllapsedTime: 11.2 seconds RetCode: 0 Status: OK