Package: BiocFileCache Version: 3.0.0 Command: /home/biocbuild/bbs-3.22-bioc/R/bin/R CMD INSTALL BiocFileCache StartedAt: 2025-11-14 15:10:28 -0500 (Fri, 14 Nov 2025) EndedAt: 2025-11-14 15:10:39 -0500 (Fri, 14 Nov 2025) EllapsedTime: 10.6 seconds RetCode: 0 Status: OK