Package: BumpyMatrix Version: 1.18.0 Command: /home/biocbuild/bbs-3.22-bioc/R/bin/R CMD build --keep-empty-dirs --no-resave-data --md5 BumpyMatrix StartedAt: 2025-11-16 16:41:26 -0500 (Sun, 16 Nov 2025) EndedAt: 2025-11-16 16:41:48 -0500 (Sun, 16 Nov 2025) EllapsedTime: 22.0 seconds RetCode: 0 Status: OK PackageFile: BumpyMatrix_1.18.0.tar.gz PackageFileSize: 318.5 KiB