Package: CNORfuzzy Version: 1.52.0 Command: /home/biocbuild/bbs-3.22-bioc/R/bin/R CMD INSTALL CNORfuzzy StartedAt: 2025-11-25 15:41:52 -0500 (Tue, 25 Nov 2025) EndedAt: 2025-11-25 15:42:01 -0500 (Tue, 25 Nov 2025) EllapsedTime: 9.4 seconds RetCode: 0 Status: OK