Package: CytoPipelineGUI Version: 1.7.2 Command: /home/biocbuild/bbs-3.22-bioc/R/bin/R CMD build --keep-empty-dirs --no-resave-data --md5 CytoPipelineGUI StartedAt: 2025-10-10 17:21:08 -0400 (Fri, 10 Oct 2025) EndedAt: 2025-10-10 17:21:50 -0400 (Fri, 10 Oct 2025) EllapsedTime: 42.0 seconds RetCode: 0 Status: OK PackageFile: CytoPipelineGUI_1.7.2.tar.gz PackageFileSize: 1.367 MiB