Package: DRIMSeq Version: 1.38.0 Command: /home/biocbuild/bbs-3.22-bioc/R/bin/R CMD build --keep-empty-dirs --no-resave-data --md5 DRIMSeq StartedAt: 2025-11-20 18:16:14 -0500 (Thu, 20 Nov 2025) EndedAt: 2025-11-20 18:18:33 -0500 (Thu, 20 Nov 2025) EllapsedTime: 139.1 seconds RetCode: 0 Status: OK PackageFile: DRIMSeq_1.38.0.tar.gz PackageFileSize: 485.2 KiB