Package: GNET2 Version: 1.26.0 Command: /home/biocbuild/bbs-3.22-bioc/R/bin/R CMD build --keep-empty-dirs --no-resave-data --md5 GNET2 StartedAt: 2025-11-14 17:59:28 -0500 (Fri, 14 Nov 2025) EndedAt: 2025-11-14 18:00:18 -0500 (Fri, 14 Nov 2025) EllapsedTime: 50.0 seconds RetCode: 0 Status: OK PackageFile: GNET2_1.26.0.tar.gz PackageFileSize: 741.3 KiB