Package: GNET2 Version: 1.26.0 Command: /home/biocbuild/bbs-3.22-bioc/R/bin/R CMD INSTALL GNET2 StartedAt: 2025-11-14 15:19:52 -0500 (Fri, 14 Nov 2025) EndedAt: 2025-11-14 15:20:27 -0500 (Fri, 14 Nov 2025) EllapsedTime: 34.3 seconds RetCode: 0 Status: OK