Package: MVCClass Version: 1.83.0 Command: /home/biocbuild/bbs-3.22-bioc/R/bin/R CMD INSTALL MVCClass StartedAt: 2025-10-20 15:04:34 -0400 (Mon, 20 Oct 2025) EndedAt: 2025-10-20 15:04:49 -0400 (Mon, 20 Oct 2025) EllapsedTime: 14.9 seconds RetCode: 0 Status: OK