Package: MetaboCoreUtils Version: 1.18.0 Command: /home/biocbuild/bbs-3.22-bioc/R/bin/R CMD build --keep-empty-dirs --no-resave-data --md5 MetaboCoreUtils StartedAt: 2025-11-14 18:35:51 -0500 (Fri, 14 Nov 2025) EndedAt: 2025-11-14 18:36:05 -0500 (Fri, 14 Nov 2025) EllapsedTime: 14.0 seconds RetCode: 0 Status: OK PackageFile: MetaboCoreUtils_1.18.0.tar.gz PackageFileSize: 1.281 MiB