Package: MetaboCoreUtils Version: 1.18.0 Command: /home/biocbuild/bbs-3.22-bioc/R/bin/R CMD INSTALL MetaboCoreUtils StartedAt: 2025-11-14 15:14:49 -0500 (Fri, 14 Nov 2025) EndedAt: 2025-11-14 15:14:55 -0500 (Fri, 14 Nov 2025) EllapsedTime: 5.5 seconds RetCode: 0 Status: OK