Package: MultiDataSet Version: 1.37.0 Command: /home/biocbuild/bbs-3.22-bioc/R/bin/R CMD INSTALL MultiDataSet StartedAt: 2025-10-10 15:33:21 -0400 (Fri, 10 Oct 2025) EndedAt: 2025-10-10 15:33:43 -0400 (Fri, 10 Oct 2025) EllapsedTime: 22.8 seconds RetCode: 0 Status: OK