Package: NanoStringNCTools Version: 1.18.0 Command: /home/biocbuild/bbs-3.22-bioc/R/bin/R CMD build --keep-empty-dirs --no-resave-data --md5 NanoStringNCTools StartedAt: 2025-11-17 22:23:30 -0500 (Mon, 17 Nov 2025) EndedAt: 2025-11-17 22:24:01 -0500 (Mon, 17 Nov 2025) EllapsedTime: 31.0 seconds RetCode: 0 Status: OK PackageFile: NanoStringNCTools_1.18.0.tar.gz PackageFileSize: 503 KiB