Package: NanoStringNCTools Version: 1.18.0 Command: /home/biocbuild/bbs-3.22-bioc/R/bin/R CMD INSTALL NanoStringNCTools StartedAt: 2025-11-17 17:15:50 -0500 (Mon, 17 Nov 2025) EndedAt: 2025-11-17 17:16:09 -0500 (Mon, 17 Nov 2025) EllapsedTime: 18.9 seconds RetCode: 0 Status: OK