Package: RGraph2js Version: 1.38.0 Command: /home/biocbuild/bbs-3.22-bioc/R/bin/R CMD INSTALL RGraph2js StartedAt: 2025-11-03 15:12:01 -0500 (Mon, 03 Nov 2025) EndedAt: 2025-11-03 15:12:04 -0500 (Mon, 03 Nov 2025) EllapsedTime: 3.2 seconds RetCode: 0 Status: OK