Package: RNAmodR.RiboMethSeq Version: 1.23.1 Command: /home/biocbuild/bbs-3.22-bioc/R/bin/R CMD build --keep-empty-dirs --no-resave-data --md5 RNAmodR.RiboMethSeq StartedAt: 2025-10-10 19:51:45 -0400 (Fri, 10 Oct 2025) EndedAt: 2025-10-10 19:53:43 -0400 (Fri, 10 Oct 2025) EllapsedTime: 118.1 seconds RetCode: 0 Status: OK PackageFile: RNAmodR.RiboMethSeq_1.23.1.tar.gz PackageFileSize: 642.8 KiB