Package: RNAmodR.RiboMethSeq Version: 1.23.1 Command: /home/biocbuild/bbs-3.22-bioc/R/bin/R CMD INSTALL RNAmodR.RiboMethSeq StartedAt: 2025-10-10 16:00:55 -0400 (Fri, 10 Oct 2025) EndedAt: 2025-10-10 16:01:56 -0400 (Fri, 10 Oct 2025) EllapsedTime: 60.4 seconds RetCode: 0 Status: OK