Package: ReactomeGSA Version: 1.23.0 Command: /home/biocbuild/bbs-3.22-bioc/R/bin/R CMD build --keep-empty-dirs --no-resave-data --md5 ReactomeGSA StartedAt: 2025-10-10 19:44:01 -0400 (Fri, 10 Oct 2025) EndedAt: 2025-10-10 19:49:26 -0400 (Fri, 10 Oct 2025) EllapsedTime: 325.3 seconds RetCode: 0 Status: OK PackageFile: ReactomeGSA_1.23.0.tar.gz PackageFileSize: 378.7 KiB