Package: ReactomeGraph4R Version: 1.18.0 Command: /Library/Frameworks/R.framework/Resources/bin/R CMD build --keep-empty-dirs --no-resave-data ReactomeGraph4R StartedAt: 2025-11-09 17:30:18 -0500 (Sun, 09 Nov 2025) EndedAt: 2025-11-09 17:30:19 -0500 (Sun, 09 Nov 2025) EllapsedTime: 1.0 seconds RetCode: 1 Status: ERROR PackageFile: None PackageFileSize: NA